BEGIN:VCALENDAR
VERSION:2.0
PRODID:-//hacksw/handcal//NONSGML v1.0//EN
BEGIN:VEVENT
DTSTART:20260522T050000Z
DTEND:20260522T160000Z
LOCATION:Campus Battelle Bâtiment B, Aula
ORGANIZER;CN=Benjamin Morit:MAILTO:benjamin.morit@hesge.ch
SUMMARY:DevOpsDays Geneva
DESCRIPTION:Devopsdays est une série mondiale de conférences techniques couvrant des sujets tels que le développement de logiciels, l’exploitation de l’infrastructure informatique et l’intersection entre ceux-ci....
URL:https://heg.alumni-hesge.ch/fr/event/devopsdays-geneva/2026/05/22/119
BEGIN:VALARM
TRIGGER:-P0DT1H0M0S
ACTION:DISPLAY
END:VALARM
END:VEVENT
END:VCALENDAR