BEGIN:VCALENDAR
VERSION:2.0
PRODID:-//hacksw/handcal//NONSGML v1.0//EN
BEGIN:VEVENT
DTSTART:20251013T060000Z
DTEND:20251015T170000Z
LOCATION:HEG-Genève \nrue de la Tambourine 17 \n1227 Carouge
ORGANIZER;CN=christel tacchini:MAILTO:christel.tacchini@hesge.ch
SUMMARY:HEG-Connect du 13 au 15 octobre  2025
DESCRIPTION:HEG-Connect s'engage à créer un pont dynamique entre le monde professionnel et les étudiant-es de la HEG-Genève en facilitant les rencontres, les échanges et en favorisant les opportunités de...
URL:https://heg.alumni-hesge.ch/fr/event/heg-connect-du-13-au-15-octobre-2025/2025/10/13/102
BEGIN:VALARM
TRIGGER:-P0DT1H0M0S
ACTION:DISPLAY
END:VALARM
END:VEVENT
END:VCALENDAR